BEGIN:VCALENDAR
VERSION:2.0
PRODID:-//Stadteilforum Linden Süd - ECPv6.15.16//NONSGML v1.0//EN
CALSCALE:GREGORIAN
METHOD:PUBLISH
X-ORIGINAL-URL:https://stadtteilforum-linden-sued.de
X-WR-CALDESC:Veranstaltungen für Stadteilforum Linden Süd
REFRESH-INTERVAL;VALUE=DURATION:PT1H
X-Robots-Tag:noindex
X-PUBLISHED-TTL:PT1H
BEGIN:VTIMEZONE
TZID:Europe/Berlin
BEGIN:DAYLIGHT
TZOFFSETFROM:+0100
TZOFFSETTO:+0200
TZNAME:CEST
DTSTART:20250330T010000
END:DAYLIGHT
BEGIN:STANDARD
TZOFFSETFROM:+0200
TZOFFSETTO:+0100
TZNAME:CET
DTSTART:20251026T010000
END:STANDARD
BEGIN:DAYLIGHT
TZOFFSETFROM:+0100
TZOFFSETTO:+0200
TZNAME:CEST
DTSTART:20260329T010000
END:DAYLIGHT
BEGIN:STANDARD
TZOFFSETFROM:+0200
TZOFFSETTO:+0100
TZNAME:CET
DTSTART:20261025T010000
END:STANDARD
BEGIN:DAYLIGHT
TZOFFSETFROM:+0100
TZOFFSETTO:+0200
TZNAME:CEST
DTSTART:20270328T010000
END:DAYLIGHT
BEGIN:STANDARD
TZOFFSETFROM:+0200
TZOFFSETTO:+0100
TZNAME:CET
DTSTART:20271031T010000
END:STANDARD
END:VTIMEZONE
BEGIN:VEVENT
DTSTART;TZID=Europe/Berlin:20260303T170000
DTEND;TZID=Europe/Berlin:20260303T183000
DTSTAMP:20260423T173734
CREATED:20260211T173123Z
LAST-MODIFIED:20260211T173123Z
UID:4750-1772557200-1772562600@stadtteilforum-linden-sued.de
SUMMARY:Jahreshauptversammlung Deisterkiez e. V. (für Mitglieder)
DESCRIPTION:Der Deisterkiez e. V. trifft sich zur Jahreshauptversammlung. \nEinladung folgt.
URL:https://stadtteilforum-linden-sued.de/termine/jahreshauptversammlung-deisterkiez-e-v-fuer-mitglieder/
LOCATION:Stadtteilladen\, Deisterstraße 66\, Hannover\, 30449
CATEGORIES:einmal im Jahr,mit Anmeldung
ATTACH;FMTTYPE=image/webp:https://stadtteilforum-linden-sued.de/wp-content/uploads/2026/02/Deisterkiez-logo-2.webp
END:VEVENT
BEGIN:VEVENT
DTSTART;TZID=Europe/Berlin:20260305T193000
DTEND;TZID=Europe/Berlin:20260305T210000
DTSTAMP:20260423T173734
CREATED:20260211T173824Z
LAST-MODIFIED:20260211T173824Z
UID:4754-1772739000-1772744400@stadtteilforum-linden-sued.de
SUMMARY:Stadtteilforum Linden-Süd
DESCRIPTION:Thema: Schulausweichstandort Hanomag \nWir haben Frau Büchle\, FB Gebäudemanagement der LHH\, eingeladen\, uns über das Vorhaben\, die bereits begonnenen Bauarbeiten sowie den geplanten Betrieb zu informieren. \nEs wird die Möglichkeit geben\, dazu miteinander ins Gespräch zu kommen und Fragen zu stellen. \nUnd natürlich: Aktuelles & Berichte rund um Linden-Süd durch die Anwesenden und das Quartiermanagement (QM). \nWie immer kostenfrei und ohne Anmeldung.\nGerne weitersagen\, zusammen kommen\, Fragen & Thema mitbringen. \nJeden 1. Donnerstag im Monat um 19.30 Uhr im café allerlei
URL:https://stadtteilforum-linden-sued.de/termine/stadtteilforum-linden-sued-4/
LOCATION:café allerlei\, Allerweg 7\, Linden-Süd\, Hannover\, 30449
CATEGORIES:ohne Anmeldung,regelmäßiger Termin
ATTACH;FMTTYPE=image/png:https://stadtteilforum-linden-sued.de/wp-content/uploads/2026/01/05.03.26-stf.png
END:VEVENT
BEGIN:VEVENT
DTSTART;TZID=Europe/Berlin:20260306T190000
DTEND;TZID=Europe/Berlin:20260306T190000
DTSTAMP:20260423T173734
CREATED:20260224T100341Z
LAST-MODIFIED:20260224T100621Z
UID:4798-1772823600-1772823600@stadtteilforum-linden-sued.de
SUMMARY:books & drinks #9
DESCRIPTION:Das Autor:innenzentrum startet wieder mit der Reihe books & drinks: ein Podiumsgespräch rund ums Schreiben und um die Welt der Bücher\, eingeleitet von einer kurzen Lesung und abgerundet mit einem Austausch an der Bar. \nSeien Sie herzlich eingeladen zur nächsten Ausgabe von books & drinks mit Ulrike Gerold und Wolfram Hänel\, Hannovers produktivstem Autorenpaar.\nDie beiden lesen aus einem Norwegen-Thriller und geben anschließend Auskunft über das gemeinsame Schreiben\, ihre Zusammenarbeit mit Verlagen und das Verhältnis von Literatur und Politik. \nWann? 6. März\, ab 19 Uhr\nWo? Autor:innenzentrum Hannover\, Deisterstraße 71 \nDauer des Programms: ca. 60 Minuten \nDer Eintritt ist frei. \nBitte nutzen Sie\, wenn Sie kommen wollen\, folgenden Anmeldelink:  https://eveeno.com/355855583 \n 
URL:https://stadtteilforum-linden-sued.de/termine/books-drinks-9/
LOCATION:Autor:innenzentrum Hannover\, Deisterstr. 71\, Hannover\, 30449
CATEGORIES:mit Anmeldung
ATTACH;FMTTYPE=image/png:https://stadtteilforum-linden-sued.de/wp-content/uploads/2026/02/Screenshot-2026-02-24-110541.png
ORGANIZER;CN="Autor%3Ainnenzentrum Hannover e. V.":MAILTO:zentrale@hannoverschreibt.de
END:VEVENT
BEGIN:VEVENT
DTSTART;TZID=Europe/Berlin:20260310T103000
DTEND;TZID=Europe/Berlin:20260310T120000
DTSTAMP:20260423T173734
CREATED:20260122T110145Z
LAST-MODIFIED:20260305T090211Z
UID:4543-1773138600-1773144000@stadtteilforum-linden-sued.de
SUMMARY:AG Wohnumfeld
DESCRIPTION:Themen: \n\nRückblick auf die Veranstaltung zur Drägerwiese (Schwarzer Bär) am 27.01. im GIG-Saal mit OB Onay und zwei Dezernent:innen (inkl. Situation Godehardistift)\nPolitische Anträge im Bezirksrat: u. a. ökologisches Sonderprogramm Volkspark\, Fläche Wessel-/Charlottenstr.\, Bäume auf der östlichen Seite der Deisterstraße\nGreenUP Deisterstraße am Sa. 18.04. von 11-13 Uhr (Deisterstr. 66) und im Innenhof des Treffpunktes Allerweg am Mi. 29.04. von 14:30-16:30 Uhr\nWeitere Themen und Termine im Deisterkiez u.a. Tempo 30 und #BFD21 – Barrierefreie Deisterstraße\nSonstiges und Termine;\n\nBringen Sie gerne ihre Themen mit! \nIn der AG Wohnumfeld treffen sich Anwohner*innen und Vertreter*innen von Einrichtungen sowie wie die Koordination des Wohnumfeldprojektes Pico Bello.\nOrganisation & Moderation: Carsten Tech\, Quartiersmanagement Linden-Süd der hanova\nThemen: Alles rund um die Verschönerung und Verbesserung des Wohnumfeldes in Linden-Süd.\nBei Interesse an der Einladung bitte E-Mail an carsten.tech@hanova.de
URL:https://stadtteilforum-linden-sued.de/termine/ag-wohnumfeld/
LOCATION:Stadtteilladen\, Deisterstraße 66\, Hannover\, 30449
CATEGORIES:ohne Anmeldung
ATTACH;FMTTYPE=image/jpeg:https://stadtteilforum-linden-sued.de/wp-content/uploads/2021/12/AG-Wohnumfeld01.jpg
ORGANIZER;CN="Quartiersmanagement Linden-S%C3%BCd":MAILTO:carsten.tech@hanova.de
END:VEVENT
BEGIN:VEVENT
DTSTART;TZID=Europe/Berlin:20260311T123000
DTEND;TZID=Europe/Berlin:20260311T140000
DTSTAMP:20260423T173734
CREATED:20260224T092623Z
LAST-MODIFIED:20260305T082921Z
UID:4791-1773232200-1773237600@stadtteilforum-linden-sued.de
SUMMARY:Café-Team-Treffen
DESCRIPTION:Thema: Die Küche im café allerlei – Bauliche Veränderungen und Austausch der Küchenmöbel und Geräte.\nWer hätte eine Küche abzugeben? Bitte melden. \nZum Café-Team-Treffen sind alle Menschen eingeladen\, die eine Veranstaltung im café allerlei anbieten. \nDie Koordination erfolgt durch Markus Nückel\, Caritasverband Hannover e. V.
URL:https://stadtteilforum-linden-sued.de/termine/cafe-team-treffen-2/
LOCATION:café allerlei\, Allerweg 7\, Linden-Süd\, Hannover\, 30449
CATEGORIES:mit Anmeldung,regelmäßiger Termin
ATTACH;FMTTYPE=image/jpeg:https://stadtteilforum-linden-sued.de/wp-content/uploads/2021/12/cafe-allerlei.jpg
ORGANIZER;CN="Koordination caf%C3%A9 allerlei":MAILTO:Markus.Nueckel@caritas-hannover.de
END:VEVENT
BEGIN:VEVENT
DTSTART;TZID=Europe/Berlin:20260312T170000
DTEND;TZID=Europe/Berlin:20260312T183000
DTSTAMP:20260423T173734
CREATED:20260122T124814Z
LAST-MODIFIED:20260122T124914Z
UID:4561-1773334800-1773340200@stadtteilforum-linden-sued.de
SUMMARY:Schule im Dialog
DESCRIPTION:Offene Runde zum Schulalltag und Stadtteil \nSchule im Dialog ist ein moderierter Austausch zwischen Eltern\, Erziehungsberechtigten\, Lehrkräften\, Schulleitung und allen\, die am Schulalltag beteiligt sind und daran mitwirken (wollen).
URL:https://stadtteilforum-linden-sued.de/termine/schule-im-dialog/
LOCATION:Grundschule Egestorffschule\, Petristr. 4\, Linden-Süd\, Hannover
ORGANIZER;CN="Quartiersmanagement Linden-S%C3%BCd":MAILTO:carsten.tech@hanova.de
END:VEVENT
BEGIN:VEVENT
DTSTART;TZID=Europe/Berlin:20260313T130000
DTEND;TZID=Europe/Berlin:20260313T130000
DTSTAMP:20260423T173734
CREATED:20260211T102043Z
LAST-MODIFIED:20260305T090731Z
UID:4742-1773406800-1773406800@stadtteilforum-linden-sued.de
SUMMARY:Mittagstisch "Meet your KIEZ"
DESCRIPTION:Gemeinsam die Mittagspause verbringen und sich informell austauschen  – diese Idee steckt hinter dem „Deisterkiez Mittagstisch“. \nUm ausreichend Plätze zu reservieren\, benötigen wir eine Anmeldung spätestens 2-3 Tage vorab an: mittagstisch@deisterkiez.de \nDas Mittagessen findet auf Selbstzahlerbasis statt\, der Deisterkiez übernimmt aber ein Getränk pro Person. \nRias Baixas II\, Plaza de Rosalia 2 (Ahrbergviertel)\, um 13 Uhr \nweitere Termine: 15.04. und 13.05. \n  \n \n  \n  \n  \n  \n 
URL:https://stadtteilforum-linden-sued.de/termine/deisterkiez-mittagstisch/
LOCATION:Rias Baixas II\, Plaza de Rosalia 2 (Ahrbergviertel)
CATEGORIES:mit Anmeldung,regelmäßiger Termin
ATTACH;FMTTYPE=image/png:https://stadtteilforum-linden-sued.de/wp-content/uploads/2026/03/Screenshot-2026-03-05-100405.png
END:VEVENT
BEGIN:VEVENT
DTSTART;TZID=Europe/Berlin:20260317T170000
DTEND;TZID=Europe/Berlin:20260317T183000
DTSTAMP:20260423T173734
CREATED:20260122T124425Z
LAST-MODIFIED:20260317T081056Z
UID:4558-1773766800-1773772200@stadtteilforum-linden-sued.de
SUMMARY:KIEZpanorama: Tempo 30
DESCRIPTION:Thema: Kampagne TEMPO 30 in der Deisterstraße \nGemeinsam möchten wir diskutieren\, Ideen sammeln und überlegen\, ob und wie wir daraus eine gemeinsame Initiative oder Kampagne entwickeln können. \nDabei wollen wir unter anderem folgenden Fragen nachgehen: \n\nUnter welchen Voraussetzungen kann innerstädtisch Tempo 30 eingeführt werden?\n(Hintergrund: https://www.adfc.de/artikel/stvo-novelle-tempo-30)\nWelche Abschnitte der Deisterstraße wären dafür (besonders) geeignet?\nWie könnte unser Anliegen ausgearbeitet und vorangebracht werden – und von wem?\nWelche Erfahrungen gibt es aus anderen Straßen\, z. B. der Wunstorfer Straße?\nWie machen wir auf das Thema aufmerksam und bringen es möglicherweise auch politisch auf den Weg?\n\nOb mit eigenen Erfahrungen\, neuen Ideen oder einfach mit Interesse am Thema – jede Perspektive ist willkommen! \nWir freuen uns auf einen offenen Austausch\, spannende Impulse und einen inspirierenden Abend mit Euch/Ihnen. \nSeid dabei und gestaltet mit – der Deisterkiez freut sich auf Euch!
URL:https://stadtteilforum-linden-sued.de/termine/kiezpanorama-des-deisterkiez-e-v-2/
LOCATION:werkBANK\, Deisterstr. 78\, Hannover\, 30449
CATEGORIES:ohne Anmeldung
ATTACH;FMTTYPE=image/png:https://stadtteilforum-linden-sued.de/wp-content/uploads/2024/04/VORDErSEITE-Postkarte-Kiezpanorama.png
END:VEVENT
BEGIN:VEVENT
DTSTART;TZID=Europe/Berlin:20260322T100000
DTEND;TZID=Europe/Berlin:20260322T130000
DTSTAMP:20260423T173734
CREATED:20260305T083925Z
LAST-MODIFIED:20260305T083925Z
UID:4836-1774173600-1774184400@stadtteilforum-linden-sued.de
SUMMARY:KreativWorkshop für Jugendliche (11-17 Jahre)
DESCRIPTION:KreativWorkshop für Jugendliche (11-17 J) mit Anna Abramovich\, Künstlerin/Graphikdesignerin. \nEntdecke neue Ausdrucksformen mit Ton und Tinte. \nkostenlos max. 15 TN\nBitte um Anmeldung bis 6.3.26\nE-Mail: team@prozukunft.eu \nSo 22.3.26 10-13 Uhr\nAllerweg 7-9 Hannover
URL:https://stadtteilforum-linden-sued.de/termine/kreativworkshop-fuer-jugendliche-11-17-jahre/
LOCATION:café allerlei\, Allerweg 7\, Linden-Süd\, Hannover\, 30449
CATEGORIES:einmal im Jahr,mit Anmeldung
END:VEVENT
BEGIN:VEVENT
DTSTART;TZID=Europe/Berlin:20260322T140000
DTEND;TZID=Europe/Berlin:20260322T140000
DTSTAMP:20260423T173734
CREATED:20260320T121505Z
LAST-MODIFIED:20260320T121505Z
UID:4975-1774188000-1774188000@stadtteilforum-linden-sued.de
SUMMARY:Der Kiosk blüht auf
DESCRIPTION:Frühlingsaktion mit Transition Town Hannover \nKommt vorbei und sät euch was an: Es gibt Saatgut von Kräutern für die Fensterbank und von Tomatenpflanzen für den Balkon.\nDie Aktion am Kiosk ist kostenlos! Dazu gibt’s Waffeln\, Kuchen und Tee.\nMehr Infos bei Transition Town Hannover: office@tthannover.de \nZeit: Sonntag\, 22. März 2026\, 14:00 Uhr\nOrt: Nachbarschaftskiosk Sporlederweg 13b\nSporlederweg 13B\n30449 Hannover \n  \n 
URL:https://stadtteilforum-linden-sued.de/termine/der-kiosk-blueht-auf/
LOCATION:Nachbarschaftskiosk Sporlederweg\, Sporlederweg 13B\, Hannover\, 30449
CATEGORIES:ohne Anmeldung
ATTACH;FMTTYPE=image/jpeg:https://stadtteilforum-linden-sued.de/wp-content/uploads/2026/03/kiosk-blueht-auf-2026.jpg
ORGANIZER;CN="Transition Town Hannover":MAILTO:office@tthannover.de
END:VEVENT
END:VCALENDAR