BEGIN:VCALENDAR
VERSION:2.0
PRODID:-//Stadteilforum Linden Süd - ECPv6.15.16//NONSGML v1.0//EN
CALSCALE:GREGORIAN
METHOD:PUBLISH
X-WR-CALNAME:Stadteilforum Linden Süd
X-ORIGINAL-URL:https://stadtteilforum-linden-sued.de
X-WR-CALDESC:Veranstaltungen für Stadteilforum Linden Süd
REFRESH-INTERVAL;VALUE=DURATION:PT1H
X-Robots-Tag:noindex
X-PUBLISHED-TTL:PT1H
BEGIN:VTIMEZONE
TZID:Europe/Berlin
BEGIN:DAYLIGHT
TZOFFSETFROM:+0100
TZOFFSETTO:+0200
TZNAME:CEST
DTSTART:20250330T010000
END:DAYLIGHT
BEGIN:STANDARD
TZOFFSETFROM:+0200
TZOFFSETTO:+0100
TZNAME:CET
DTSTART:20251026T010000
END:STANDARD
BEGIN:DAYLIGHT
TZOFFSETFROM:+0100
TZOFFSETTO:+0200
TZNAME:CEST
DTSTART:20260329T010000
END:DAYLIGHT
BEGIN:STANDARD
TZOFFSETFROM:+0200
TZOFFSETTO:+0100
TZNAME:CET
DTSTART:20261025T010000
END:STANDARD
BEGIN:DAYLIGHT
TZOFFSETFROM:+0100
TZOFFSETTO:+0200
TZNAME:CEST
DTSTART:20270328T010000
END:DAYLIGHT
BEGIN:STANDARD
TZOFFSETFROM:+0200
TZOFFSETTO:+0100
TZNAME:CET
DTSTART:20271031T010000
END:STANDARD
END:VTIMEZONE
BEGIN:VEVENT
DTSTART;TZID=Europe/Berlin:20260602T170000
DTEND;TZID=Europe/Berlin:20260602T180000
DTSTAMP:20260423T190550
CREATED:20260211T180931Z
LAST-MODIFIED:20260211T180931Z
UID:4764-1780419600-1780423200@stadtteilforum-linden-sued.de
SUMMARY:KIEZpanorama: Vorbereitungstreffen Lust auf Linden-Süd III
DESCRIPTION:Thema: Lust auf Linden-Süd (LALS) – Hygienetipps „Gastro“ \nAlle Menschen sind herzlich zum KIEZpanorama eingeladen!\nSchwerpunkt ist heute wieder die Vorbereitung unseres Stadtteilfestes „Lust auf Linden-Süd“ \nSeid dabei und gestaltet mit – der Deisterkiez freut sich auf Euch!
URL:https://stadtteilforum-linden-sued.de/termine/kiezpanorama-vorbereitungstreffen-lust-auf-linden-sued-iii/
LOCATION:Stadtteilladen\, Deisterstraße 66\, Hannover\, 30449
CATEGORIES:ohne Anmeldung,regelmäßiger Termin
ATTACH;FMTTYPE=image/png:https://stadtteilforum-linden-sued.de/wp-content/uploads/2024/04/VORDErSEITE-Postkarte-Kiezpanorama.png
END:VEVENT
BEGIN:VEVENT
DTSTART;TZID=Europe/Berlin:20260613T140000
DTEND;TZID=Europe/Berlin:20260613T220000
DTSTAMP:20260423T190550
CREATED:20260121T125927Z
LAST-MODIFIED:20260129T170018Z
UID:4518-1781359200-1781388000@stadtteilforum-linden-sued.de
SUMMARY:Stadtteilfest „Lust auf Linden-Süd“
DESCRIPTION:Einmal im Jahr gehört die Deisterstraße den Menschen – nicht den Autos\, nicht dem Alltag\, sondern der Gemeinschaft. Mit dem Stadtteilfest Lust auf Linden-Süd feiern wir nicht nur das Leben im Kiez\, sondern setzen gemeinsam ein Zeichen: Für Offenheit\, Zusammenhalt und die Lust\, unsere Nachbarschaft aktiv mitzugestalten. \nAlle Infos hier lust-auf-linden-sued.de
URL:https://stadtteilforum-linden-sued.de/termine/stadtteilfest-lust-auf-linden-sued/
LOCATION:Deisterstraße
CATEGORIES:einmal im Jahr,ohne Anmeldung
ATTACH;FMTTYPE=image/jpeg:https://stadtteilforum-linden-sued.de/wp-content/uploads/2023/10/20230617_135537_2.jpg
END:VEVENT
BEGIN:VEVENT
DTSTART;TZID=Europe/Berlin:20260622T080000
DTEND;TZID=Europe/Berlin:20260812T170000
DTSTAMP:20260423T190550
CREATED:20260129T172353Z
LAST-MODIFIED:20260129T172353Z
UID:4612-1782115200-1786554000@stadtteilforum-linden-sued.de
SUMMARY:JugendKinderKulturSommer (JuKiKS)
DESCRIPTION:Das Ferienprogramm in Linden-Süd! \nHier gehtˋs lang: https://jukiks-programm.de
URL:https://stadtteilforum-linden-sued.de/termine/jugendkinderkultursommer-jukiks/
CATEGORIES:einmal im Jahr
ATTACH;FMTTYPE=image/jpeg:https://stadtteilforum-linden-sued.de/wp-content/uploads/2024/05/Jukiks-Logo.jpg
END:VEVENT
BEGIN:VEVENT
DTSTART;TZID=Europe/Berlin:20260623T103000
DTEND;TZID=Europe/Berlin:20260623T120000
DTSTAMP:20260423T190550
CREATED:20260122T110821Z
LAST-MODIFIED:20260129T165913Z
UID:4547-1782210600-1782216000@stadtteilforum-linden-sued.de
SUMMARY:AG Wohnumfeld
DESCRIPTION:In der AG Wohnumfeld treffen sich Anwohner*innen und Vertreter*innen von Einrichtungen sowie wie die Koordination des Wohnumfeldprojektes Pico Bello.\nOrganisation & Moderation: Carsten Tech\, Quartiersmanagement Linden-Süd der hanova\nThemen: Alles rund um die Verschönerung und Verbesserung des Wohnumfeldes in Linden-Süd.\nBei Interesse an der Einladung bitte E-Mail an carsten.tech@hanova.de
URL:https://stadtteilforum-linden-sued.de/termine/ag-wohnumfeld-2/
LOCATION:Stadtteilladen\, Deisterstraße 66\, Hannover\, 30449
CATEGORIES:ohne Anmeldung,regelmäßiger Termin
ATTACH;FMTTYPE=image/jpeg:https://stadtteilforum-linden-sued.de/wp-content/uploads/2021/12/AG-Wohnumfeld01.jpg
ORGANIZER;CN="Quartiersmanagement Linden-S%C3%BCd":MAILTO:carsten.tech@hanova.de
END:VEVENT
BEGIN:VEVENT
DTSTART;TZID=Europe/Berlin:20260624T123000
DTEND;TZID=Europe/Berlin:20260624T140000
DTSTAMP:20260423T190550
CREATED:20260224T092932Z
LAST-MODIFIED:20260224T092932Z
UID:4795-1782304200-1782309600@stadtteilforum-linden-sued.de
SUMMARY:Café-Team-Treffen
DESCRIPTION:Zum Café-Team-Treffen sind alle Menschen eingeladen\, die eine Veranstaltung im café allerlei anbieten. \nDie Koordination erfolgt durch Markus Nückel\, Caritasverband Hannover e. V.
URL:https://stadtteilforum-linden-sued.de/termine/cafe-team-treffen-4/
LOCATION:café allerlei\, Allerweg 7\, Linden-Süd\, Hannover\, 30449
CATEGORIES:ohne Anmeldung,regelmäßiger Termin
ATTACH;FMTTYPE=image/jpeg:https://stadtteilforum-linden-sued.de/wp-content/uploads/2021/11/stadtteilforum_linden_sued_cafe-allerlei.jpg
ORGANIZER;CN="Koordination caf%C3%A9 allerlei":MAILTO:Markus.Nueckel@caritas-hannover.de
END:VEVENT
END:VCALENDAR