BEGIN:VCALENDAR
VERSION:2.0
PRODID:-//Stadteilforum Linden Süd - ECPv6.15.16//NONSGML v1.0//EN
CALSCALE:GREGORIAN
METHOD:PUBLISH
X-ORIGINAL-URL:https://stadtteilforum-linden-sued.de
X-WR-CALDESC:Veranstaltungen für Stadteilforum Linden Süd
REFRESH-INTERVAL;VALUE=DURATION:PT1H
X-Robots-Tag:noindex
X-PUBLISHED-TTL:PT1H
BEGIN:VTIMEZONE
TZID:Europe/Berlin
BEGIN:DAYLIGHT
TZOFFSETFROM:+0100
TZOFFSETTO:+0200
TZNAME:CEST
DTSTART:20250330T010000
END:DAYLIGHT
BEGIN:STANDARD
TZOFFSETFROM:+0200
TZOFFSETTO:+0100
TZNAME:CET
DTSTART:20251026T010000
END:STANDARD
BEGIN:DAYLIGHT
TZOFFSETFROM:+0100
TZOFFSETTO:+0200
TZNAME:CEST
DTSTART:20260329T010000
END:DAYLIGHT
BEGIN:STANDARD
TZOFFSETFROM:+0200
TZOFFSETTO:+0100
TZNAME:CET
DTSTART:20261025T010000
END:STANDARD
BEGIN:DAYLIGHT
TZOFFSETFROM:+0100
TZOFFSETTO:+0200
TZNAME:CEST
DTSTART:20270328T010000
END:DAYLIGHT
BEGIN:STANDARD
TZOFFSETFROM:+0200
TZOFFSETTO:+0100
TZNAME:CET
DTSTART:20271031T010000
END:STANDARD
END:VTIMEZONE
BEGIN:VEVENT
DTSTART;TZID=Europe/Berlin:20260507T193000
DTEND;TZID=Europe/Berlin:20260507T210000
DTSTAMP:20260423T204744
CREATED:20260126T123730Z
LAST-MODIFIED:20260325T075533Z
UID:4586-1778182200-1778187600@stadtteilforum-linden-sued.de
SUMMARY:Kommunalwahlforum
DESCRIPTION:Kommunalwahlforum \nImmer im Mai vor einer Kommunalwahl lädt das STF ausgewählte Vertreter*innen aus dem Rat der Stadt Hannover ein.\nIm Rahmen des STF Linden-Süd möchten wir den Menschen aus dem Stadtteil die Möglichkeit geben\, mit den Politiker*innen in`s Gespräch zu kommen.\nEs geht inhaltlich also um Themen\, die den Stadtteil betreffen. \nKomm vorbei und stell deine Frage! Oder sende sie uns vorab per E-Mail an info@stadtteilforum-linden-sued.de \nUnd natürlich: Aktuelles & Berichte rund um Linden-Süd durch die Anwesenden und das Quartiermanagement (QM). \nWie immer kostenfrei und ohne Anmeldung.\nGerne weitersagen\, zusammen kommen\, Fragen & Thema mitbringen. \nJeden 1. Donnerstag im Monat um 19.30 Uhr im café allerlei \nDie Kommunalwahl findet statt am Sonntag\, 13. September 2026.
URL:https://stadtteilforum-linden-sued.de/termine/kommunalwahlforum/
LOCATION:café allerlei\, Allerweg 7\, Linden-Süd\, Hannover\, 30449
CATEGORIES:ohne Anmeldung
ATTACH;FMTTYPE=image/png:https://stadtteilforum-linden-sued.de/wp-content/uploads/2025/10/logo-neu-claim.png
END:VEVENT
BEGIN:VEVENT
DTSTART;TZID=Europe/Berlin:20260513T130000
DTEND;TZID=Europe/Berlin:20260513T140000
DTSTAMP:20260423T204744
CREATED:20260211T172627Z
LAST-MODIFIED:20260305T090825Z
UID:4748-1778677200-1778680800@stadtteilforum-linden-sued.de
SUMMARY:Mittagstisch "Meet your KIEZ"
DESCRIPTION:Gemeinsam die Mittagspause verbringen und sich informell austauschen  – diese Idee steckt hinter dem „Deisterkiez Mittagstisch“. \nUm ausreichend Plätze zu reservieren\, benötigen wir eine Anmeldung spätestens 2-3 Tage vorab an: mittagstisch@deisterkiez.de \nDas Mittagessen findet auf Selbstzahlerbasis statt\, der Deisterkiez übernimmt aber ein Getränk pro Person. \nRias Baixas II\, Plaza de Rosalia 2 (Ahrbergviertel)\, um 13 Uhr \n \n\n\n\n\n 
URL:https://stadtteilforum-linden-sued.de/termine/deisterkiez-mittagstisch-3/
LOCATION:Rias Baixas II\, Plaza de Rosalia 2 (Ahrbergviertel)
CATEGORIES:mit Anmeldung,regelmäßiger Termin
ATTACH;FMTTYPE=image/png:https://stadtteilforum-linden-sued.de/wp-content/uploads/2026/03/Screenshot-2026-03-05-100405.png
END:VEVENT
BEGIN:VEVENT
DTSTART;TZID=Europe/Berlin:20260529T140000
DTEND;TZID=Europe/Berlin:20260529T180000
DTSTAMP:20260423T204744
CREATED:20260121T123447Z
LAST-MODIFIED:20260129T170246Z
UID:4505-1780063200-1780077600@stadtteilforum-linden-sued.de
SUMMARY:Europäischer Nachbarschaftstag in Linden-Süd
DESCRIPTION:Seit vielen Jahren feiern wir in Linden-Süd den Europäischen Nachbarschaftstag. \nProgramm folgt. \nWer weitere Infos zu diesem Tag benötigt\, findest du hier:\nhttps://www.hannover.de/Leben-in-der-Region-Hannover/Politik/B%C3%BCrgerbeteiligung-Engagement/Europ%C3%A4ischer-Nachbarschaftstag
URL:https://stadtteilforum-linden-sued.de/termine/europaeischer-nachbarschaftstag-in-linden-sued/
LOCATION:verschiedene Orte im öffentlichen Raum in Linden-Süd
CATEGORIES:einmal im Jahr,ohne Anmeldung
ATTACH;FMTTYPE=image/jpeg:https://stadtteilforum-linden-sued.de/wp-content/uploads/2022/05/2022.05.20_foto1.jpg
END:VEVENT
END:VCALENDAR