BEGIN:VCALENDAR
VERSION:2.0
PRODID:-//Stadteilforum Linden Süd - ECPv6.15.16//NONSGML v1.0//EN
CALSCALE:GREGORIAN
METHOD:PUBLISH
X-ORIGINAL-URL:https://stadtteilforum-linden-sued.de
X-WR-CALDESC:Veranstaltungen für Stadteilforum Linden Süd
REFRESH-INTERVAL;VALUE=DURATION:PT1H
X-Robots-Tag:noindex
X-PUBLISHED-TTL:PT1H
BEGIN:VTIMEZONE
TZID:Europe/Berlin
BEGIN:DAYLIGHT
TZOFFSETFROM:+0100
TZOFFSETTO:+0200
TZNAME:CEST
DTSTART:20250330T010000
END:DAYLIGHT
BEGIN:STANDARD
TZOFFSETFROM:+0200
TZOFFSETTO:+0100
TZNAME:CET
DTSTART:20251026T010000
END:STANDARD
BEGIN:DAYLIGHT
TZOFFSETFROM:+0100
TZOFFSETTO:+0200
TZNAME:CEST
DTSTART:20260329T010000
END:DAYLIGHT
BEGIN:STANDARD
TZOFFSETFROM:+0200
TZOFFSETTO:+0100
TZNAME:CET
DTSTART:20261025T010000
END:STANDARD
BEGIN:DAYLIGHT
TZOFFSETFROM:+0100
TZOFFSETTO:+0200
TZNAME:CEST
DTSTART:20270328T010000
END:DAYLIGHT
BEGIN:STANDARD
TZOFFSETFROM:+0200
TZOFFSETTO:+0100
TZNAME:CET
DTSTART:20271031T010000
END:STANDARD
END:VTIMEZONE
BEGIN:VEVENT
DTSTART;TZID=Europe/Berlin:20260917T170000
DTEND;TZID=Europe/Berlin:20260917T200000
DTSTAMP:20260424T025206
CREATED:20260325T074634Z
LAST-MODIFIED:20260325T074703Z
UID:4996-1789664400-1789675200@stadtteilforum-linden-sued.de
SUMMARY:Großes Cafè-Team-Treffen
DESCRIPTION:Einmal im Jahr findet das großes Cafe-Team-Treffen statt mit allen\, die sich im café allerlei engagieren und sich dort regelmäßig treffen. \nEs gibt ein Kennenlernen\, Rückblick\, Ausblick und ein gemeinsames Essen. \nEs ist immer richtig schön 🙂
URL:https://stadtteilforum-linden-sued.de/termine/grosses-cafe-team-treffen/
LOCATION:café allerlei\, Allerweg 7\, Linden-Süd\, Hannover\, 30449
CATEGORIES:einmal im Jahr,mit Anmeldung
ATTACH;FMTTYPE=image/jpeg:https://stadtteilforum-linden-sued.de/wp-content/uploads/2026/01/Cafe-Team-2025-scaled.jpg
ORGANIZER;CN="Koordination caf%C3%A9 allerlei":MAILTO:Markus.Nueckel@caritas-hannover.de
END:VEVENT
END:VCALENDAR